BEGIN:VCALENDAR
PRODID:NingEventWidget-v1
VERSION:2.0
METHOD:PUBLISH
BEGIN:VEVENT
UID:4027687:Event:26116
DTSTAMP:20260423T215042Z
SUMMARY:SUPERCAR WEEK DAY 7
DESCRIPTION:\r\n\r\nAfternoon Preview & VIP Cocktail Party\r\nAfternoo
 n SuperCar Week Special Palm Beach Preview Noon till 3:00p. Evening: S
 pecial VIP Invite Cocktail Party  6:00-9:00p. After Party Casual Dinn
 er.\r\nSaturday, January 13th 2018\r\n\r\nBUY VIP TICKETS\n\nFor more 
 information visit https://flaxmag.com/events/supercar-week-day-7
DTSTART:20180113T050000Z
DTEND:20180114T045900Z
CATEGORIES:car, event
LOCATION:PALM BEACH COUNTY
WEBSITE:http://supercarweek.com/
URL:http://supercarweek.com/
CONTACT:
ORGANIZER:SUPERCAR WEEK
ATTACH;FMTTYPE="image/jpeg":http://storage.ning.com/topology/rest/1.0/
 file/get/2587029925?profile=original
ATTENDEE;ROLE=REQ-PARTICIPANT;PARTSTAT=ACCEPTED;RSVP=TRUE;CN="FLAX MAG
 AZINE FL":https://flaxmag.com/profile/BW1
END:VEVENT
END:VCALENDAR
