BEGIN:VCALENDAR
PRODID:NingEventWidget-v1
VERSION:2.0
METHOD:PUBLISH
BEGIN:VEVENT
UID:4027687:Event:25906
DTSTAMP:20260423T215226Z
SUMMARY:SUPERCAR WEEK GRAND FINALE SUPERSHOW
DESCRIPTION:\r\n\r\nWest Palm Beach Waterfront\r\nSuperCar Week's Gran
 d Finale SuperCar SuperShow Sunday on the West Palm Beach Waterfront. 
 Free Admission and VIP Tickets Available. 11:00a-5:00p. After Party at
  Camelot Yacht Club 5:00-8:00p.\r\nSunday, January 14th 2018\r\n\r\nBU
 Y VIP TICKETS\n\nFor more information visit https://flaxmag.com/events
 /supercar-week-grand-finale-supershow
DTSTART:20180114T050000Z
DTEND:20180115T045900Z
CATEGORIES:car, show
LOCATION:WEST PALM BEACH WATERFRONT
WEBSITE:http://supercarweek.com/
URL:http://supercarweek.com/
CONTACT:
ORGANIZER:SUPCAR WEEK
ATTACH;FMTTYPE="image/jpeg":http://storage.ning.com/topology/rest/1.0/
 file/get/2587030008?profile=original
ATTENDEE;ROLE=REQ-PARTICIPANT;PARTSTAT=ACCEPTED;RSVP=TRUE;CN="FLAX MAG
 AZINE FL":https://flaxmag.com/profile/BW1
END:VEVENT
END:VCALENDAR
