BEGIN:VCALENDAR
PRODID:NingEventWidget-v1
VERSION:2.0
METHOD:PUBLISH
BEGIN:VEVENT
UID:4027687:Event:97113
DTSTAMP:20260421T040743Z
SUMMARY:SUPERCAR WEEK WATERFRONT FINALE
DESCRIPTION:Join us for the 15th annual Supercar Week WPB Flagler Driv
 e Waterfront Grand Finale. 9 days of Supercar Week starts January 4th 
 thru January 12th, 2025. See the most significant cars in the world. A
  free family event with music, entertainment, car clubs and all exotic
  and luxury brands on display as well as a motorsports race village of
  race cars and a Green Street of electrics and a memory lane of classi
 cs and vintage vehicles on display. See http://supercarweek.com for mo
 re info or call 954-296-5204 or email info@supercarweek.com Vehicle Re
 gistrations and VIP Ticket Sales are currently open. Buy your vip brun
 ch tix now. Will sell out.\r\n\r\nFOR MORE INFO: https://supercarweek.
 com/\n\nFor more information visit https://flaxmag.com/events/supercar
 -week-palm-beach-waterfront-finale
DTSTART:20250112T150000Z
DTEND:20250112T220000Z
CATEGORIES:car, show
LOCATION:PALM BEACH WATERFRONT
WEBSITE:https://supercarweek.com/
URL:https://supercarweek.com/
CONTACT:
ORGANIZER:SUPERCAR WEEK
ATTACH;FMTTYPE="image/jpeg":https://storage.ning.com/topology/rest/1.0
 /file/get/13156807092?profile=original
ATTENDEE;ROLE=REQ-PARTICIPANT;PARTSTAT=ACCEPTED;RSVP=TRUE;CN="FLAX MAG
 AZINE FL":https://flaxmag.com/profile/BW1
END:VEVENT
END:VCALENDAR
