BEGIN:VCALENDAR
PRODID:NingEventWidget-v1
VERSION:2.0
METHOD:PUBLISH
BEGIN:VEVENT
UID:4027687:Event:25806
DTSTAMP:20260423T220053Z
SUMMARY:SUPERCAR WEEK DAY 5
DESCRIPTION:\r\n\r\nDelray Beach\r\nMedia Day 10:30a - 1:00p. PM, Supe
 rCar Delray \"Art & Technology\" at The Heart of Delray Gallery 6-9pm 
 Federal Hwy. Cocktails Light Fare.\r\nThursday, January 11th 2018\r\n\
 r\nBUY VIP TICKETS\n\nFor more information visit https://flaxmag.com/e
 vents/supercar-week
DTSTART:20180111T050000Z
DTEND:20180112T045900Z
CATEGORIES:car, event
LOCATION:THE HEART OF DELRAY GALLERY
WEBSITE:http://supercarweek.com/
URL:http://supercarweek.com/
CONTACT:
ORGANIZER:SUPERCAR WEEK
ATTACH;FMTTYPE="image/jpeg":http://storage.ning.com/topology/rest/1.0/
 file/get/2587031941?profile=original
ATTENDEE;ROLE=REQ-PARTICIPANT;PARTSTAT=ACCEPTED;RSVP=TRUE;CN="FLAX MAG
 AZINE FL":https://flaxmag.com/profile/BW1
END:VEVENT
END:VCALENDAR
