BEGIN:VCALENDAR
PRODID:NingEventWidget-v1
VERSION:2.0
METHOD:PUBLISH
BEGIN:VEVENT
UID:4027687:Event:27882
DTSTAMP:20260423T192107Z
SUMMARY:SUPERCARS & LATTES
DESCRIPTION:Supercars & Lattes at Lusso Motorsports Saturday July 7th,
  2018 from 9am-Noon we will be having our quarterly Supercars & Lattes
  open house and car meet. - Open to Exotics, Muscle Cars, Classics, Ho
 t Rods, Sports Cars and Imports. - Spectator Parking Available\n\nFor 
 more information visit https://flaxmag.com/events/supercars-lattes
DTSTART:20180714T130000Z
DTEND:20180714T160000Z
CATEGORIES:car, show
LOCATION:LUSSO MOTORSPORTS
WEBSITE:https://www.facebook.com/events/161944271142815/
URL:https://www.facebook.com/events/161944271142815/
CONTACT:
ORGANIZER:LUSSO MOTORSPORTS
ATTACH;FMTTYPE="image/jpeg":http://storage.ning.com/topology/rest/1.0/
 file/get/2587041732?profile=original
ATTENDEE;ROLE=REQ-PARTICIPANT;PARTSTAT=ACCEPTED;RSVP=TRUE;CN="FLAX MAG
 AZINE FL":https://flaxmag.com/profile/BW1
END:VEVENT
END:VCALENDAR
