BEGIN:VCALENDAR
PRODID:NingEventWidget-v1
VERSION:2.0
METHOD:PUBLISH
BEGIN:VEVENT
UID:4027687:Event:25426
DTSTAMP:20260423T221235Z
SUMMARY:TILTED KILT WEDNESDAY CAR MEET
DESCRIPTION:Every Wednesday.  Featuring hundreds of custom, classic 
 and exotic vehicles all night long! This is friendly event and open t
 o ALL makes & models.\n\nFor more information visit https://flaxmag.co
 m/events/tilted-kilt-wednesday-car-meet-8
DTSTART:20171018T230000Z
DTEND:20171019T030000Z
CATEGORIES:weekly, car, meet
LOCATION:TILTED KILT - BOCA
WEBSITE:https://www.facebook.com/spotbigwinbig
URL:https://www.facebook.com/spotbigwinbig
CONTACT:
ORGANIZER:SPOT BIG
ATTACH;FMTTYPE="image/jpeg":http://storage.ning.com/topology/rest/1.0/
 file/get/2587030270?profile=original
ATTENDEE;ROLE=REQ-PARTICIPANT;PARTSTAT=ACCEPTED;RSVP=TRUE;CN="FLAX MAG
 AZINE FL":https://flaxmag.com/profile/BW1
END:VEVENT
END:VCALENDAR
