BEGIN:VCALENDAR
PRODID:NingEventWidget-v1
VERSION:2.0
METHOD:PUBLISH
BEGIN:VEVENT
UID:4027687:Event:23519
DTSTAMP:20260423T230432Z
SUMMARY:WHEELS ACROSS THE POND
DESCRIPTION:11th Annual Wheels Across The PondSaturday April 15th, 201
 7\nPRE-REGISTRATION IS NOW OPEN!\nClick Here to Register Online (debit
 /credit card)Click Here to Register by Mail (check/money order)\n\nWhe
 els Across The Pond is one of the premier British Classic Car and Moto
 rcycle Shows in the state of Florida taking place on Easter Saturday e
 ach year at the beautiful Carlin Park in Jupiter. Our first show took 
 place in 2007, and in 2016 we had an entry list consisting of 254 Brit
 ish and European Classic Cars and Bikes and thousands of spectators as
  well as local automotive dealers bringing us new models from Jaguar, 
 Land Rover, Aston Martin, Rolls Royce, Bentley, MINI and Morgan. In 20
 09, we introduced a Euroclass which allows owners of European marques 
 to join us at the show. Wheels Across The Pond is a non-profit organiz
 ation and our show raises money each year a Jupiter-based no-kill anim
 al rescue center, the Busch Wildlife Sanctuary.\n\nFor more informatio
 n visit https://flaxmag.com/events/wheels-across-the-pond
DTSTART:20170415T160000Z
DTEND:20170415T210000Z
CATEGORIES:british, classic, car, and, motorcycle, shows
LOCATION:Carlin Park
WEBSITE:http://www.wheelsacrossthepond.com/
URL:http://www.wheelsacrossthepond.com/
CONTACT:(561) 601 3212
ORGANIZER:Wheels Across The Pond
ATTACH;FMTTYPE="image/jpeg":http://storage.ning.com/topology/rest/1.0/
 file/get/2587029214?profile=original
ATTENDEE;ROLE=REQ-PARTICIPANT;PARTSTAT=ACCEPTED;RSVP=TRUE;CN="FLAX MAG
 AZINE FL":https://flaxmag.com/profile/BW1
END:VEVENT
END:VCALENDAR
