BEGIN:VCALENDAR
PRODID:NingEventWidget-v1
VERSION:2.0
METHOD:PUBLISH
BEGIN:VEVENT
UID:4027687:Event:94218
DTSTAMP:20260419T141100Z
SUMMARY:WHEELS WINGS & FASHION
DESCRIPTION:\r\n\r\n\r\n*TO PURCHASE TICKETS...CLICK HERE!WE cordially
  invite you to be a part of the 4th Annual Wheels, Wings & Fashion Han
 gar Party. Join Nick Castellino of Cast Capital, Victor Concepcion of 
 VRC Events , Alex Kowtun of Alex Kowtun Media and Derek Damgaard for t
 he hottest Hangar Party of the year as we give you an evening full of 
 fashion, luxury, fun, networking, and giving back.\r\n\r\n\r\n\r\n\r\n
 \r\n\r\n\r\nOur charity event will benefit the Leukemia & Lymphoma Soc
 iety and the Scotch & Sharks.\r\nThe charity hangar event will have hi
 gh end trunk shows, live entertainment, LIVE auction with one of kind 
 packages & experiences and more! We will have a variety of aircraft fr
 om business jets from our Platinum Sponsor Global Wings as well as fig
 hter jets to general aviation aircraft. As well as all of our favorite
  exotics rides by SuperCarWeek.com, McLaren, Holman Motor Cars, and ma
 ny more. We’ll also have Helicopters, Yachts and more!!\r\nOur guest
 s will be treated to Open Bar and Food provided by some of the finest 
 restaurants in Broward County.\r\nEmcee by Josh Cohen ESPN 106.3 FM\r\
 nFashion Show by Cassandra Young with Indie True and Lorena Roos with 
 Lorena Roos Couture\r\nMusic by DJ Adam Lipson & Friends\r\nSpecial pe
 rformers TBA\r\nSchedule for tickets\r\nEarly bird\r\nTier 2\r\nJanuar
 y 13- February 13\r\n$125 individuals/ $200 couples\r\nTier 3\r\nFebru
 ary 14 -April 2\r\n$199/individual $349 couples\r\nDay of the event.\r
 \nAt the door $250 individuals. No couples sales\r\nSponsors:\r\nPlati
 num Sponsor:\r\nGlobal Wings\r\nElite Sponsor:\r\nHolman Motorcars FLL
 \r\nHealthy Enhancements\r\nSuperCarsWeek.com\r\nClosing Florida\r\nGl
 obal Wings\r\nCamden Agency\r\nPremier Sponsors:\r\nMcLaren Palm Beach
 \r\nInList\r\nPhireon\r\nRunway Sponsor:\r\nCelsius\r\n4ever Young Ant
 i-Aging\r\nColwright Designsr Delivery\r\nExcell Auto Group\r\nFood & 
 Beverage Sponsors:\r\nKapow Boca Raton\r\nSuperCar Miami Rooms\r\nOcea
 ns 234\r\nIdeal Nutrition\r\nRoyal Blues Hotel & Chanson Restaurant\r\
 nLocal FL\r\nSteel Tie Spirts Co.\r\nHouse of Wines Inc\r\nSILENT AUCT
 ION ITEMS TBA\r\nLIVE AUCTION ITEMS TBA\r\n\r\n\r\n\r\n\n\nFor more in
 formation visit https://flaxmag.com/events/wheels-wings-fashion-1
DTSTART:20220402T220000Z
DTEND:20220403T020000Z
CATEGORIES:hanger, party
LOCATION:JETSCAPE @ FT. LAUDERDALE INT'L AIRPORT
WEBSITE:https://wheelswingsfashion.com/
URL:https://wheelswingsfashion.com/
CONTACT:*******
ORGANIZER:WHEELS WINGS &amp; FASHION
ATTACH;FMTTYPE="image/jpeg":https://storage.ning.com/topology/rest/1.0
 /file/get/10212419692?profile=original
ATTENDEE;ROLE=REQ-PARTICIPANT;PARTSTAT=ACCEPTED;RSVP=TRUE;CN="FLAX MAG
 AZINE FL":https://flaxmag.com/profile/BW1
END:VEVENT
END:VCALENDAR
