BEGIN:VCALENDAR
PRODID:NingEventWidget-v1
VERSION:2.0
METHOD:PUBLISH
BEGIN:VEVENT
UID:4027687:Event:28150
DTSTAMP:20260423T221030Z
SUMMARY:YACHTS, WHEELS & HEELS
DESCRIPTION:\r\n\r\nECJ Luxe Collection and Life Time Boca Raton proud
 ly presents:   “Yachts, Wheels & Heels,” an amazing display of Yac
 hts, Exotic Cars and a Fashion Showcase.  Join us on March 3rd, 2018 f
 rom 7pm to 11pm.  Early Bird Tickets $25 and Day of Event Tickets $40.
  A portion of the proceeds will benefit the Life Time Foundation. Tick
 ets can be purchased online at www.Tickets2018.eventbrite.com or at th
 e door.  The event will feature a fashion show by top designers, a dis
 play of exotic cars, beautiful yachts and top local DJ Fhono.  Enjoy d
 elicious hors d’ouvres from NYY Steak and drinks from Delray Level 2
  nightclub; where the night will continue for the after party. Sponsor
 ed by ECJ Luxe Collection, “Yachts, Wheels & Heels” will help the 
 Life Time Foundation raise funds to inspire healthy people and a healt
 hy planet, by improving children's nutrition - one school meal at a ti
 me. With your support, Life Time and ECJ Luxe hope to bring awareness 
 to health and wellness for children across the country.  Contact Miche
 le for car participation: MNiewinski@lifetimefitness.com  Check out la
 st years event video:  https://www.facebook.com/erick.montiel.3958/vid
 eos/vb.33402712/10101798748615485/?type=2&theater  Production by: www.
 ThatsGreatMarketing.com\n\nFor more information visit https://flaxmag.
 com/events/yachts-wheels-heels
DTSTART:20180304T000000Z
DTEND:20180304T040000Z
CATEGORIES:car, boat, and, fashion, event
LOCATION:LIFE TIME ATHLETIC - BOCA RATON
WEBSITE:
URL:
CONTACT:https://www.facebook.com/events/195572814360616/
ORGANIZER:ECJ Luxe Collection and Life Time - Boca Raton
ATTACH;FMTTYPE="image/jpeg":http://storage.ning.com/topology/rest/1.0/
 file/get/2587033282?profile=original
ATTENDEE;ROLE=REQ-PARTICIPANT;PARTSTAT=ACCEPTED;RSVP=TRUE;CN="FLAX MAG
 AZINE FL":https://flaxmag.com/profile/BW1
END:VEVENT
END:VCALENDAR
